BEGIN:VCALENDAR
VERSION:2.0
PRODID:-//Camp War Eagle - ECPv6.15.1.1//NONSGML v1.0//EN
CALSCALE:GREGORIAN
METHOD:PUBLISH
X-WR-CALNAME:Camp War Eagle
X-ORIGINAL-URL:https://campwareagle.org
X-WR-CALDESC:Events for Camp War Eagle
REFRESH-INTERVAL;VALUE=DURATION:PT1H
X-Robots-Tag:noindex
X-PUBLISHED-TTL:PT1H
BEGIN:VTIMEZONE
TZID:America/Chicago
BEGIN:DAYLIGHT
TZOFFSETFROM:-0600
TZOFFSETTO:-0500
TZNAME:CDT
DTSTART:20250309T080000
END:DAYLIGHT
BEGIN:STANDARD
TZOFFSETFROM:-0500
TZOFFSETTO:-0600
TZNAME:CST
DTSTART:20251102T070000
END:STANDARD
END:VTIMEZONE
BEGIN:VEVENT
DTSTART;TZID=America/Chicago:20251006T180000
DTEND;TZID=America/Chicago:20251006T193000
DTSTAMP:20260424T130047
CREATED:20240205T210223Z
LAST-MODIFIED:20250828T020444Z
UID:10001878-1759773600-1759779000@campwareagle.org
SUMMARY:Bentonville Elementary OZONE - Serve Your Zone
DESCRIPTION:Connect with your OZONE director for details regarding programming for this week.
URL:https://campwareagle.org/event/elementary-ozone/
LOCATION:Boys & Girls Club of Benton County\, 2801 NE Walker St\, Bentonville\, AR\, 72712\, United States
CATEGORIES:Elementary OZONE,Volunteer Opportunity
ATTACH;FMTTYPE=image/png:https://campwareagle.org/wp-content/uploads/2024/02/Screenshot-2025-01-22-at-10.28.16 AM.png
END:VEVENT
END:VCALENDAR